{"text_format":"1","workbook":"xlsx","n_sheets":4,"sheets":["Älgobs","Fällda djur","Grafer jämförelse","Snittvikt, -ålder etc"],"not_rendered":{"charts":11,"images":0,"macros":0,"external_links":0,"defined_names":1,"comments":0,"pivot_tables":0},"unopened":[],"bounds":{"document_bytes":16777216,"sheet_cells":100000,"rows_first":2000,"rows_last":500,"rows_between":2000,"halvings":0,"cell_chars":16384,"cell_head_chars":4096},"cells_cut":0,"cells_raw":0,"read":"whole","date_system":"1900"}

{"sheet":"Älgobs","index":0,"n_rows":40,"n_cols":27,"rows_kept":40,"cut":false,"hidden":false,"merged":[[1,1,1,10]]}
[]
[null,"Antal observerade älgar 1994-"]
[null,1994,1995,1996,1997,1998,1999,2000,2001,2002,2003,2004,2005,2006,2007,2008,2009,2010,2011,2012,2013,2014,2015,2016,2017,2018,2019]
["Mandagar",null,null,null,787,517,1077,998,1174,1146,1102,908,926,1102,1085,1369,1296,1253,1414,1653,1553,1407,1609,1389,1255,1312]
["Mantimmar",null,null,null,5454,3394,7492,6375,8197,7301,7327,5933,6157,7851,6894,8451,7906,7834,8923,8463,8964,8591,10077,8134,8196,8750,5240]
["Tjur",98,83,53,104,66,104,98,85,97,83,67,78,104,155,160,164,178,218,185,131,128,163,122,84,72,83]
["Ko",101,88,54,108,85,115,75,79,60,72,58,63,92,118,121,98,145,150,141,134,94,108,128,75,86,72]
["Ko+1",102,77,89,89,66,103,50,71,95,81,55,54,86,95,132,105,99,95,93,111,76,109,69,70,45,54]
["Ko+2",55,62,34,56,25,37,48,28,45,36,21,19,35,47,44,45,29,44,40,43,31,20,17,19,16,8]
["Kalv",14,11,13,6,15,4,16,5,2,4,1,15,5,3,10,9,6,10,8,11,4,7,4,11,2,4]
["Okänd",40,60,46,40,13,37,16,15,15,44,25,40,31,41,46,35,47,68,37,58,44,20,31,38,16,9]
["Totalt vuxen",{"$f":"B6+B7+B8+B9","v":356},{"$f":"C6+C7+C8+C9","v":310},230,357,242,359,271,263,297,272,201,214,317,{"$f":"O6+O7+O8+O9","v":415},457,412,451,507,459,{"$f":"U6+U7+U8+U9","v":419},329,400,336,248,219,217]
["Totalt kalv",{"$f":"B8+2*B9+B10","v":226},{"$f":"C8+2*C9+C10","v":212},170,207,131,181,162,132,187,157,98,107,161,{"$f":"O8+2*O9+O10","v":192},230,204,163,193,181,{"$f":"U8+2*U9+U10","v":208},142,156,107,119,79,74]
["Totalt",{"$f":"B6+B7+2*B8+3*B9+B10+B11","v":622},{"$f":"C6+C7+2*C8+3*C9+C10+C11","v":582},446,604,386,577,449,410,499,473,324,361,509,{"$f":"O6+O7+2*O8+3*O9+O10+O11","v":648},733,651,661,768,677,{"$f":"U6+U7+2*U8+3*U9+U10+U11","v":685},515,576,474,405,314,300]
[]
["tjurandel av vuxna",{"$f":"B6/B12","v":0.2752808988764045},{"$f":"C6/C12","v":0.26774193548387099},0.23043478260869565,0.29131652661064428,0.27272727272727271,0.28969359331476324,0.36162361623616235,0.32319391634980987,0.32659932659932661,0.30514705882352944,0.33333333333333331,0.3644859813084112,0.32807570977917982,0.37349397590361444,{"$f":"P6/P12","v":0.35010940919037198},0.39805825242718446,0.39467849223946783,0.42998027613412226,0.40305010893246185,0.31264916467780429,0.38905775075987842,{"$f":"W6/W12","v":0.40749999999999997},{"$f":"X6/X12","v":0.36309523809523808},{"$f":"Y6/Y12","v":0.33870967741935482},{"$f":"Z6/Z12","v":0.32876712328767121},{"$f":"AA6/AA12","v":0.38248847926267282}]
["kalv/hondjur",{"$f":"(B8+2*B9+B10)/(B7+B8+B9)","v":0.87596899224806202},{"$f":"(C8+2*C9+C10)/(C7+C8+C9)","v":0.93392070484581502},0.96045197740112997,0.81818181818181823,0.74431818181818177,0.70980392156862748,0.93641618497109824,0.7415730337078652,0.93500000000000005,0.8306878306878307,0.73134328358208955,0.78676470588235292,0.755868544600939,0.7384615384615385,{"$f":"(P8+2*P9+P10)/(P7+P8+P9)","v":0.77441077441077444},0.82258064516129037,0.59706959706959706,0.66782006920415227,0.66058394160583944,0.72222222222222221,0.70646766169154229,{"$f":"(W8+2*W9+W10)/(W7+W8+W9)","v":0.65822784810126578},{"$f":"(X8+2*X9+X10)/(X7+X8+X9)","v":0.5},{"$f":"(Y8+2*Y9+Y10)/(Y7+Y8+Y9)","v":0.72560975609756095},{"$f":"(Z8+2*Z9+Z10)/(Z7+Z8+Z9)","v":0.5374149659863946},{"$f":"(AA8+2*AA9+AA10)/(AA7+AA8+AA9)","v":0.55223880597014929}]
["kalvandel av skjutna",{"$f":"'Fällda djur'!B8/'Fällda djur'!B9","v":0.42424242424242425},{"$f":"'Fällda djur'!C8/'Fällda djur'!C9","v":0.43055555555555558},{"$f":"'Fällda djur'!D8/'Fällda djur'!D9","v":0.40259740259740262},{"$f":"'Fällda djur'!E8/'Fällda djur'!E9","v":0.45783132530120479},{"$f":"'Fällda djur'!F8/'Fällda djur'!F9","v":0.39393939393939392},{"$f":"'Fällda djur'!G8/'Fällda djur'!G9","v":0.39705882352941174},{"$f":"'Fällda djur'!H8/'Fällda djur'!H9","v":0.35714285714285715},{"$f":"'Fällda djur'!I8/'Fällda djur'!I9","v":0.34615384615384615},{"$f":"'Fällda djur'!J8/'Fällda djur'!J9","v":0.44444444444444442},{"$f":"'Fällda djur'!K8/'Fällda djur'!K9","v":0.43478260869565216},{"$f":"'Fällda djur'!L8/'Fällda djur'!L9","v":0.54},{"$f":"'Fällda djur'!M8/'Fällda djur'!M9","v":0.54545454545454541},{"$f":"'Fällda djur'!N8/'Fällda djur'!N9","v":0.57746478873239437},{"$f":"'Fällda djur'!O8/'Fällda djur'!O9","v":0.60810810810810811},{"$f":"'Fällda djur'!P8/'Fällda djur'!P9","v":0.56999999999999995},{"$f":"'Fällda djur'!Q8/'Fällda djur'!Q9","v":0.66666666666666663},{"$f":"'Fällda djur'!R8/'Fällda djur'!R9","v":0.52173913043478259},{"$f":"'Fällda djur'!S8/'Fällda djur'!S9","v":0.44144144144144143},{"$f":"'Fällda djur'!T8/'Fällda djur'!T9","v":0.53703703703703709},{"$f":"'Fällda djur'!U8/'Fällda djur'!U9","v":0.53097345132743368},{"$f":"'Fällda djur'!V8/'Fällda djur'!V9","v":0.46666666666666667},{"$f":"'Fällda djur'!W8/'Fällda djur'!W9","v":0.5},{"$f":"'Fällda djur'!X8/'Fällda djur'!X9","v":0.53333333333333333},{"$f":"'Fällda djur'!Y8/'Fällda djur'!Y9","v":0.54545454545454541},{"$f":"'Fällda djur'!Z8/'Fällda djur'!Z9","v":0.48888888888888887},{"$f":"'Fällda djur'!AA8/'Fällda djur'!AA9","v":{"$error":"#VALUE!"}}]
["Fördelning"]
["Tjur",{"$f":"B6/(B6+B7+2*B8+3*B9+B10)","v":0.16838487972508592},{"$f":"C6/(C6+C7+2*C8+3*C9+C10)","v":0.15900383141762453},0.13250000000000001,0.18439716312056736,0.17694369973190349,0.19259259259259259,0.22632794457274827,0.21518987341772153,0.20041322314049587,0.19347319347319347,0.22408026755852842,0.24299065420560748,0.21757322175732219,0.25535420098846789,{"$f":"P6/(P6+P7+2*P8+3*P9+P10)","v":0.23289665211062591},0.26623376623376621,0.28990228013029318,0.31142857142857144,0.2890625,0.20893141945773525,0.27176220806794055,{"$f":"W6/(W6+W7+2*W8+3*W9+W10)","v":0.29316546762589929},{"$f":"X6/(X6+X7+2*X8+3*X9+X10)","v":0.27539503386004516},{"$f":"Y6/(Y6+Y7+2*Y8+3*Y9+Y10)","v":0.22888283378746593},{"$f":"Z6/(Z6+Z7+2*Z8+3*Z9+Z10)","v":0.24161073825503357},{"$f":"AA6/(AA6+AA7+2*AA8+3*AA9+AA10)","v":0.28522336769759449}]
["Ko/Kviga",{"$f":"(B7+B8+B9)/(B6+B7+2*B8+3*B9+B10)","v":0.44329896907216493},{"$f":"(C7+C8+C9)/(C6+C7+2*C8+3*C9+C10)","v":0.43486590038314177},0.4425,0.44858156028368795,0.47184986595174261,0.47222222222222221,0.39953810623556579,0.45063291139240508,0.41322314049586778,0.44055944055944057,0.44816053511705684,0.42367601246105918,0.44560669456066948,0.42833607907742999,{"$f":"(P7+P8+P9)/(P6+P7+2*P8+3*P9+P10)","v":0.43231441048034935},0.40259740259740262,0.44462540716612375,0.41285714285714287,0.42812499999999998,0.45933014354066987,0.42675159235668791,{"$f":"(W7+W8+W9)/(W6+W7+2*W8+3*W9+W10)","v":0.42625899280575541},{"$f":"(X7+X8+X9)/(X6+X7+2*X8+3*X9+X10)","v":0.48306997742663654},{"$f":"(Y7+Y8+Y9)/(Y6+Y7+2*Y8+3*Y9+Y10)","v":0.44686648501362397},{"$f":"(Z7+Z8+Z9)/(Z6+Z7+2*Z8+3*Z9+Z10)","v":0.49328859060402686},{"$f":"(AA7+AA8+AA9)/(AA6+AA7+2*AA8+3*AA9+AA10)","v":0.46048109965635736}]
["Kalv",{"$f":"(B8+2*B9+B10)/(B6+B7+2*B8+3*B9+B10)","v":0.38831615120274915},{"$f":"(C8+2*C9+C10)/(C6+C7+2*C8+3*C9+C10)","v":0.4061302681992337},0.42499999999999999,0.36702127659574468,0.3512064343163539,0.3351851851851852,0.37413394919168591,0.33417721518987342,0.38636363636363635,0.36596736596736595,0.32775919732441472,0.33333333333333331,0.33682008368200839,0.31630971993410212,{"$f":"(P8+2*P9+P10)/(P6+P7+2*P8+3*P9+P10)","v":0.33478893740902477},0.33116883116883117,0.26547231270358307,0.27571428571428569,0.28281250000000002,0.33173843700159489,0.30148619957537154,{"$f":"(W8+2*W9+W10)/(W6+W7+2*W8+3*W9+W10)","v":0.2805755395683453},{"$f":"(X8+2*X9+X10)/(X6+X7+2*X8+3*X9+X10)","v":0.24153498871331827},{"$f":"(Y8+2*Y9+Y10)/(Y6+Y7+2*Y8+3*Y9+Y10)","v":0.3242506811989101},{"$f":"(Z8+2*Z9+Z10)/(Z6+Z7+2*Z8+3*Z9+Z10)","v":0.2651006711409396},{"$f":"(AA8+2*AA9+AA10)/(AA6+AA7+2*AA8+3*AA9+AA10)","v":0.25429553264604809}]
["Fördelning hondjur"]
["Ensam",{"$f":"B7/SUM(B7:B9)","v":0.39147286821705424},{"$f":"C7/SUM(C7:C9)","v":0.38766519823788548},0.30508474576271188,0.4268774703557312,0.48295454545454547,0.45098039215686275,0.43352601156069365,0.4438202247191011,0.3,0.38095238095238093,0.43283582089552236,0.46323529411764708,0.431924882629108,0.45384615384615384,{"$f":"P7/SUM(P7:P9)","v":0.40740740740740738},0.39516129032258063,0.53113553113553114,0.51903114186851207,0.51459854014598538,0.46527777777777779,0.46766169154228854,{"$f":"W7/SUM(W7:W9)","v":0.45569620253164556},{"$f":"X7/SUM(X7:X9)","v":0.59813084112149528},{"$f":"Y7/SUM(Y7:Y9)","v":0.45731707317073172},{"$f":"Z7/SUM(Z7:Z9)","v":0.58503401360544216},{"$f":"AA7/SUM(AA7:AA9)","v":0.53731343283582089}]
["Ko + 1 kalv",{"$f":"B8/SUM(B7:B9)","v":0.39534883720930231},{"$f":"C8/SUM(C7:C9)","v":0.33920704845814981},0.50282485875706218,0.35177865612648224,0.375,0.40392156862745099,0.28901734104046245,0.398876404494382,0.47499999999999998,0.42857142857142855,0.41044776119402987,0.39705882352941174,0.40375586854460094,0.36538461538461536,{"$f":"P8/SUM(P7:P9)","v":0.44444444444444442},0.42338709677419356,0.36263736263736263,0.32871972318339099,0.33941605839416056,0.38541666666666669,0.37810945273631841,{"$f":"W8/SUM(W7:W9)","v":0.45991561181434598},{"$f":"X8/SUM(X7:X9)","v":0.32242990654205606},{"$f":"Y8/SUM(Y7:Y9)","v":0.42682926829268292},{"$f":"Z8/SUM(Z7:Z9)","v":0.30612244897959184},{"$f":"AA8/SUM(AA7:AA9)","v":0.40298507462686567}]
["Ko + 2 kalvar",{"$f":"B9/SUM(B7:B9)","v":0.2131782945736434},{"$f":"C9/SUM(C7:C9)","v":0.27312775330396477},0.19209039548022599,0.22134387351778656,0.14204545454545456,0.14509803921568629,0.2774566473988439,0.15730337078651685,0.22500000000000001,0.19047619047619047,0.15671641791044777,0.13970588235294118,0.16431924882629109,0.18076923076923077,{"$f":"P9/SUM(P7:P9)","v":0.14814814814814814},0.18145161290322581,0.10622710622710622,0.15224913494809689,0.145985401459854,0.14930555555555555,0.15422885572139303,{"$f":"W9/SUM(W7:W9)","v":8.4388185654008435E-2},{"$f":"X9/SUM(X7:X9)","v":7.9439252336448593E-2},{"$f":"Y9/SUM(Y7:Y9)","v":0.11585365853658537},{"$f":"Z9/SUM(Z7:Z9)","v":0.10884353741496598},{"$f":"AA9/SUM(AA7:AA9)","v":5.9701492537313432E-2}]
[]
[]
["Obs per mantimma 1997- (intressantast är 2004- då samma avskjutningsregler gällt!)"]
[null,1994,1995,1996,1997,1998,1999,2000,2001,2002,2003,2004,2005,2006,2007,2008,2009,2010,2011,2012,2013,2014,2015,2016,2017,2018,2019]
["Tjur",null,null,null,{"$f":"E6/E$5","v":1.906857352401907E-2},1.9446081319976428E-2,1.3881473571809931E-2,1.5372549019607842E-2,1.0369647431987313E-2,1.3285851253252979E-2,1.1327965060734271E-2,1.1292769256699815E-2,1.2668507389962644E-2,1.3246720163036557E-2,2.2483318827966347E-2,1.8932670689859189E-2,{"$f":"Q6/Q$5","v":2.0743738932456363E-2},2.2721470513147816E-2,2.4431245096940491E-2,2.1859860569537988E-2,{"$f":"U6/U$5","v":1.4614011601963409E-2},1.4899313234780585E-2,1.6175449042373724E-2,1.499877059257438E-2,1.0248901903367497E-2,8.2285714285714288E-3,1.5839694656488549E-2]
["Ko",null,null,null,{"$f":"E7/E$5","v":1.9801980198019802E-2},2.5044195639363581E-2,1.5349706353443673E-2,1.1764705882352941E-2,9.6376723191411492E-3,8.2180523215997815E-3,9.8266684864200902E-3,9.7758301028147646E-3,1.0232255968815981E-2,1.1718252451916954E-2,1.7116333043225993E-2,1.4317832209206011E-2,1.2395648874272705E-2,1.8509063058463109E-2,1.6810489745601256E-2,1.6660758596242466E-2,1.4948683623382419E-2,1.0941683156791992E-2,1.0717475439118785E-2,1.573641504794689E-2,9.1508052708638363E-3,9.8285714285714278E-3,1.3740458015267175E-2]
["Ko+1",null,null,null,{"$f":"2*E8/E$5","v":3.2636596993032639E-2},3.8892162639952856E-2,2.7495995728777364E-2,1.5686274509803921E-2,1.7323411004025863E-2,2.602383235173264E-2,2.2110004094445204E-2,1.8540367436372829E-2,1.7541010232255967E-2,2.1908037192714305E-2,2.7560197272991006E-2,3.1238906638267661E-2,{"$f":"2*Q8/Q$5","v":2.6562104730584367E-2},2.5274444728108247E-2,2.1293287011094925E-2,2.197802197802198E-2,2.4765729585006693E-2,1.7692934466301945E-2,{"$f":"2*W8/W$5","v":2.1633422645628661E-2},{"$f":"2*X8/X$5","v":1.6965822473567739E-2},{"$f":"2*Y8/Y$5","v":1.7081503172279161E-2},{"$f":"2*Z8/Z$5","v":1.0285714285714285E-2},{"$f":"2*AA8/AA$5","v":2.0610687022900764E-2}]
["Ko+2",null,null,null,{"$f":"3*E9/E$5","v":3.0803080308030802E-2},2.2097819681791395E-2,1.4815803523758676E-2,2.2588235294117649E-2,1.0247651579846286E-2,1.8490617723599508E-2,1.4740002729630134E-2,1.0618574077195348E-2,9.2577554003573162E-3,1.3374092472296522E-2,2.0452567449956483E-2,1.5619453319133831E-2,{"$f":"3*Q9/Q$5","v":1.7075638755375665E-2},1.1105437835077865E-2,1.4793230976129104E-2,1.4179369018078695E-2,1.4390896921017403E-2,1.0825282272145268E-2,{"$f":"3*W9/W$5","v":5.9541530217326584E-3},{"$f":"3*X9/X$5","v":6.2699778706663389E-3},{"$f":"3*Y9/Y$5","v":6.9546120058565156E-3},{"$f":"3*Z9/Z$5","v":5.4857142857142856E-3},{"$f":"3*AA9/AA$5","v":4.5801526717557254E-3}]
["Kalv",null,null,null,{"$f":"E10/E$5","v":1.1001100110011001E-3},4.4195639363582796E-3,5.339028296849973E-4,2.5098039215686275E-3,6.0997926070513605E-4,2.7393507738665936E-4,5.4592602702333839E-4,1.6854879487611664E-4,2.4362514211466622E-3,6.3686154629983443E-4,4.351610095735422E-4,1.1832919181161993E-3,{"$f":"Q10/Q$5","v":1.1383759170250443E-3},7.6589226448812867E-4,1.120699316373417E-3,9.4529126787191303E-4,{"$f":"U10/U$5","v":1.2271307452030344E-3},4.6560353858689327E-4,6.9465118586881016E-4,4.917629702483403E-4,1.3421181063933627E-3,2.2857142857142857E-4,7.6335877862595419E-4]
["Okänd",null,null,null,{"$f":"E11/E$5","v":7.3340667400073343E-3},3.8302887448438423E-3,4.9386011745862256E-3,2.5098039215686275E-3,1.829937782115408E-3,2.0545130803999454E-3,6.0051862972567219E-3,4.2137198719029156E-3,6.4966704563910998E-3,3.9485415870589733E-3,5.9472004641717433E-3,5.4431428233345167E-3,4.4270174550973948E-3,5.999489405157008E-3,7.6207553513392354E-3,4.3719721139075978E-3,6.4703257474341812E-3,5.1216389244558257E-3,1.9847176739108863E-3,3.8111630194246375E-3,4.6364080039043437E-3,1.8285714285714285E-3,1.7175572519083969E-3]
["Hondjur",null,null,null,{"$f":"SUM(E7:E9)/E$5","v":4.6387972130546386E-2},5.1856216853270479E-2,3.403630539241858E-2,2.7137254901960783E-2,2.1715261681102844E-2,2.7393507738665935E-2,2.5795004776852735E-2,2.2585538513399631E-2,2.2088679551729738E-2,2.7130301872372947E-2,3.7713954163040325E-2,3.5143769968051117E-2,{"$f":"SUM(Q7:Q9)/Q$5","v":3.1368580824690108E-2},3.4848098034209851E-2,3.2388210243191752E-2,3.237622592461302E-2,3.2128514056224897E-2,2.3396577813991386E-2,{"$f":"SUM(W7:W9)/W$5","v":2.3518904435844E-2},{"$f":"SUM(X7:X9)/X$5","v":2.6309318908286205E-2},{"$f":"SUM(Y7:Y9)/Y$5","v":2.0009760858955589E-2},{"$f":"SUM(Z7:Z9)/Z$5","v":1.6799999999999999E-2},{"$f":"SUM(AA7:AA9)/AA$5","v":2.5572519083969465E-2}]
["Kalv",null,null,null,{"$f":"E13/E$5","v":3.7953795379537955E-2},3.8597525044195641E-2,2.415910304324613E-2,2.5411764705882352E-2,1.6103452482615591E-2,2.5612929735652649E-2,2.1427596560666031E-2,1.6517781897859431E-2,1.737859347084619E-2,2.0506941790854667E-2,2.7850304612706701E-2,2.7215714116672583E-2,{"$f":"Q13/Q$5","v":2.5803187452567669E-2},2.0806739851927495E-2,2.1629496806006947E-2,2.1387214935602031E-2,{"$f":"U13/U$5","v":2.3203926818384651E-2},1.6528925619834711E-2,1.5480797856504911E-2,{"$f":"X13/X$5","v":1.3154659454143102E-2},{"$f":"Y13/Y$5","v":1.4519277696437287E-2},{"$f":"Z13/Z$5","v":9.0285714285714292E-3},{"$f":"AA13/AA$5","v":1.4122137404580152E-2}]
["Totalt",null,null,null,{"$f":"E14/E$5","v":0.11074440777411075},0.11373011196228638,7.7015483182060862E-2,7.0431372549019614E-2,5.0018299377821152E-2,6.8346801807971508E-2,6.4555752695509755E-2,5.4609809539861789E-2,5.8632450868929674E-2,6.4832505413323138E-2,9.3994778067885115E-2,8.6735297597917413E-2,8.2342524664811539E-2,8.4375797804442182E-2,8.6069707497478429E-2,7.9995273543660636E-2,7.6416778224007137E-2,5.9946455593062505E-2,5.715986900863352E-2,5.8273911974428327E-2,4.9414348462664716E-2,3.5885714285714285E-2,5.7251908396946563E-2]
["Ändring mot föreg år",null,null,null,null,{"$f":"(F39-E39)/E39","v":2.6960315632963416E-2},-0.32282240953390007,-8.5490739796785162E-2,-0.28982926829930999,0.36643593760961579,-5.5467834809786093E-2,-0.15406749577469905,7.3661515448641232E-2,0.10574442058124808,0.44980943538500218,-7.7232806111045285E-2,-5.0645735412930062E-2,2.4692868574377663E-2,{"$f":"(S39-R39)/R39","v":2.0075776906574822E-2},-7.0575747617078341E-2,-4.4733834402108666E-2,-0.21553280593253676,-4.6484592906464874E-2,1.9489949594295623E-2,-0.15203310043182536,-0.27377947089947097,0.59539553653911603]

{"sheet":"Fällda djur","index":1,"n_rows":24,"n_cols":27,"rows_kept":24,"cut":false,"hidden":false,"merged":[[0,1,0,10],[14,1,14,10]]}
[null,"Antal fällda djur 1994-"]
[null,1994,1995,1996,1997,1998,1999,2000,2001,2002,2003,2004,2005,2006,2007,2008,2009,2010,2011,2012,2013,2014,2015,2106,2017,2018,2019]
["Fällda Tjur",19,22,21,27,29,34,40,33,25,25,6,6,10,11,22,18,14,26,24,25,21,24,20,18,12," "]
["Fällda Kor",19,19,25,18,31,48,50,18,15,14,17,19,20,18,21,15,19,36,26,28,19,21,22,22,11," "]
["Fällda Tjurkalv",17,16,13,22,21,28,22,15,18,18,14,18,24,30,33,28,22,26,25,30,17,21,25,29,10," "]
["Fällda Kvigkalv",11,15,18,16,18,26,28,12,14,12,13,12,17,15,24,38,14,23,33,30,18,24,23,19,12," "]
["Totalt vuxen",{"$f":"B3+B4","v":38},{"$f":"C3+C4","v":41},46,45,60,82,90,51,40,39,23,25,30,{"$f":"O3+O4","v":29},43,33,33,62,50,{"$f":"U3+U4","v":53},40,45,42,40,23,{"$error":"#VALUE!"}]
["Toltalt kalv",{"$f":"B5+B6","v":28},{"$f":"C5+C6","v":31},31,38,39,54,50,27,32,30,27,30,41,{"$f":"O5+O6","v":45},57,66,36,49,58,{"$f":"U5+U6","v":60},35,45,48,48,22,{"$error":"#VALUE!"}]
["Totalt",{"$f":"SUM(B3:B6)","v":66},{"$f":"SUM(C3:C6)","v":72},77,83,99,136,140,78,72,69,50,55,71,{"$f":"SUM(O3:O6)","v":74},100,99,69,111,108,{"$f":"SUM(U3:U6)","v":113},75,90,90,88,45,0]
[]
[]
["Areal Ha totalt",17306,17508,17508,17508,17847,23492,23729,23672,22812,23197,23202,22913,22973,23240,26789,26828,26550,26634,28405,29490,29490,31404,31292,31292,31292," "]
[]
[]
[null,"Antal fällda djur per 1000 Ha 1994-"]
[null,1994,1995,1996,1997,1998,1999,2000,2001,2002,2003,2004,2005,2006,2007,2008,2009,2010,2011,2012,2013,2014,2015,2016,2017,2018,2019]
["Fällda Tjur",{"$f":"SUM(B3*1000/B12)","v":1.0978851265457068},{"$f":"SUM(C3*1000/C12)","v":1.256568425862463},1.1994516792323509,1.5421521590130227,1.6249229562391438,1.4473012089221862,1.6857010409203927,1.3940520446096654,1.0959144310012274,1.0777255679613744,{"$f":"SUM(L3/L12*1000)","v":0.2585983966899405},0.26186007943089079,0.43529360553693469,0.47332185886402756,0.82123259546828919,0.67094080811092882,{"$f":"SUM(R3/R12*1000)","v":0.52730696798493415},0.97619583990388226,0.84492166872029573,0.84774499830451,0.71210579857578837,0.76423385555980128,0.63914099450338746,0.57522689505304869,0.3834845967020325,{"$error":"#VALUE!"}]
["Fällda Kor",{"$f":"SUM(B4*1000/B12)","v":1.0978851265457068},{"$f":"SUM(C4*1000/C12)","v":1.085218185972127},1.4279186657527987,1.0281014393420151,1.7369866083935674,2.043248765537204,2.1071263011504908,0.76039202433254482,0.65754865860073641,0.60352631805836965,{"$f":"SUM(L4/L12*1000)","v":0.73269545728816476},0.82922358486448733,0.87058721107386938,0.77452667814113596,0.7839038411288215,0.55911734009244063,{"$f":"SUM(R4/R12*1000)","v":0.71563088512241058},1.3516557783284522,0.91533180778032042,0.94947439810105116,0.64428619871142767,0.66870462361482608,0.70305509395372612,0.70305509395372612,0.35152754697686306,{"$error":"#VALUE!"}]
["Fällda Tjurkalv",{"$f":"SUM(B5*1000/B12)","v":0.98231827111984282},{"$f":"SUM(C5*1000/C12)","v":0.91386794608179123},0.7425177061914553,1.256568425862463,1.176668347621449,1.1918951132300357,0.92713557250621603,0.63366002027712065,0.78905839032088376,0.77596240893218948,{"$f":"SUM(L5/L12*1000)","v":0.6033962589431946},0.78558023829267232,1.0447046532886433,1.2908777969018934,1.2318488932024338,1.0436857015058894,{"$f":"SUM(R5/R12*1000)","v":0.82862523540489641},0.97619583990388226,0.88012673825030807,1.0172939979654119,0.57646659884706675,0.66870462361482608,0.79892624312923433,0.92675444202991186,0.31957049725169373,{"$error":"#VALUE!"}]
["Fällda Kvigkalv",{"$f":"SUM(B6*1000/B12)","v":0.63561770484225122},{"$f":"SUM(C6*1000/C12)","v":0.85675119945167921},1.0281014393420151,0.91386794608179123,1.0085728693898135,1.106759747999319,1.179990728644275,0.50692801622169648,0.61371208136068733,0.51730827262145962,{"$f":"SUM(L6/L12*1000)","v":0.5602965261615378},0.52372015886178158,0.73999912941278889,0.64543889845094671,0.89589010414722459,1.41643059490085,{"$f":"SUM(R6/R12*1000)","v":0.52730696798493415},0.86355785837651122,1.1617672944904067,1.0172939979654119,0.61037639877924721,0.76423385555980128,0.73501214367889556,0.60718394477821813,0.3834845967020325,{"$error":"#VALUE!"}]
["Totalt vuxen",{"$f":"B17+B18","v":2.1957702530914136},{"$f":"C17+C18","v":2.34178661183459},2.6273703449851498,2.5702535983550376,3.3619095646327111,3.4905499744593902,3.7928273420708836,2.15444406894221,1.7534630896019638,1.6812518860197441,0.99129385397810532,1.0910836642953781,1.305880816610804,{"$f":"O17+O18","v":1.2478485370051635},1.6051364365971108,1.2300581482033695,1.2429378531073447,2.3278516182323346,1.7602534765006161,{"$f":"U17+U18","v":1.7972193964055612},1.356391997287216,1.4329384791746274,1.3421960884571136,1.2782819890067749,0.73501214367889556,{"$error":"#VALUE!"}]
["Toltalt kalv",{"$f":"B19+B20","v":1.6179359759620939},{"$f":"C19+C20","v":1.7706191455334706},1.7706191455334706,2.1704363719442541,2.1852412170112627,2.2986548612293545,2.1071263011504913,1.140588036498817,1.402770471681571,1.2932706815536492,1.1636927851047325,1.3093003971544539,1.784703782701432,{"$f":"O19+O20","v":1.9363166953528401},2.1277389973496583,2.4601162964067393,1.3559322033898304,1.8397536982803935,2.0418940327407147,{"$f":"U19+U20","v":2.0345879959308237},1.186842997626314,1.4329384791746274,1.53393838680813,1.53393838680813,0.70305509395372623,{"$error":"#VALUE!"}]
["Totalt",{"$f":"SUM(B17:B20)","v":3.8137062290535075},{"$f":"SUM(C17:C20)","v":4.1124057573680606},4.3979894905186203,4.7406899702992922,5.5471507816439738,5.7892048356887447,5.8999536432213739,3.2950321054410274,3.1562335612835346,2.9745225675733931,2.1549866390828374,2.4003840614498317,3.0905845993122361,{"$f":"SUM(O17:O20)","v":3.1841652323580041},3.7328754339467691,3.690174444610109,2.5988700564971756,4.167605316512728,3.8021475092413306,{"$f":"SUM(U17:U20)","v":3.8318073923363851},2.5432349949135302,2.8658769583492547,2.8761344752652436,2.8122203758149054,1.4380672376326218,{"$error":"#VALUE!"}]
["Ändring mot föreg år",null,{"$f":"(C23-B23)/B23","v":7.8322636924419015E-2},{"$f":"(D23-C23)/C23","v":6.9444444444444434E-2},7.7922077922077962E-2,0.17011464921714078,4.3635744470070965E-2,1.9130227842327405E-2,-0.4415155940713561,-4.212357868328423E-2,-5.7572099840496521E-2,-0.27551847729268725,0.11387421987518008,0.28753754407347765,3.027926595718914E-2,0.17232466330976887,-1.1439168033397878E-2,-0.29573246590195734,0.60362204570163636,-8.7690119269066655E-2,7.8008238825465152E-3,-0.33628318584070788,0.12686282002292687,3.5791895692190473E-3,-2.2222222222222036E-2,-0.48863636363636376,{"$error":"#VALUE!"}]

{"sheet":"Grafer jämförelse","index":2,"n_rows":0,"n_cols":0,"rows_kept":0,"cut":false,"hidden":false,"merged":[]}

{"sheet":"Snittvikt, -ålder etc","index":3,"n_rows":110,"n_cols":13,"rows_kept":110,"cut":false,"hidden":false,"merged":[]}
[2008,"Snittvikt",null,null,null,null,"Taggsnitt","Snitt utlägg","Snittålder",null,"Äggsnitt"]
[null,"Tjur","Ko","Tjurkalv","Kvigkalv","Kalv",null,null,"Tjur","Ko"]
[null,194.91,147.13,61.45,58.95,60.44,5.95,85.45,5,4.1578947368421053,1.31]
["inkl övriga",197.5,null,null,null,null,6.48,87,5.05,4.2,1.42]
["Antal",22,16,31,21,{"$f":"D5+E5","v":52},22,20,18,18,13]
["Totalt",22,21,33,24,{"$f":"D6+E6","v":57},{"$f":"B6","v":22},{"$f":"B6","v":22},{"$f":"B6","v":22},{"$f":"C6","v":21},{"$f":"C6","v":21}]
["Andel",{"$f":"B5/B6","v":1},0.76190476190476186,0.93939393939393945,0.875,0.91228070175438591,1,0.90909090909090906,{"$f":"I5/I6","v":0.81818181818181823},{"$f":"J5/J6","v":0.8571428571428571},{"$f":"K5/K6","v":0.61904761904761907}]
[]
[2009,"Snittvikt",null,null,null,null,"Taggsnitt","Snitt utlägg","Snittålder",null,"Äggsnitt"]
[null,"Tjur","Ko","Tjurkalv","Kvigkalv","Kalv",null,null,"Tjur","Ko"]
[null,175.52941176470588,154.5,57.615384615384613,53.84375,55.53448275862069,5.4444444444444446,73.166666666666671,3.1666666666666665,6,0.14285714285714285]
["inkl övriga",175.52941176470588,null,null,null,null,5.4444444444444446,73.166666666666671,3.2307692307692308,5.615384615384615,0.125]
["Antal",17,12,26,32,58,18,12,17,14,7]
["Totalt",18,15,28,38,66,18,18,18,15,15]
["Andel",0.94444444444444442,0.8,0.9285714285714286,0.84210526315789469,0.87878787878787878,1,0.66666666666666663,0.94444444444444442,0.93333333333333302,0.46666666666666667]
[]
[2010,"Snittvikt",null,null,null,null,"Taggsnitt","Snitt utlägg","Snittålder",null,"Äggsnitt"]
[null,"Tjur","Ko","Tjurkalv","Kvigkalv","Kalv",null,null,"Tjur","Ko"]
[null,176.83333333333334,144.75,53.833333333333336,48.307692307692307,51.516129032258064,4.7142857142857144,71.900000000000006,3.25,2.7142857142857144,0]
["inkl övriga",176.83333333333334,null,null,null,null,4.7142857142857144,71.900000000000006,3.2222222222222223,3.375,0]
["Antal",12,16,18,13,31,14,10,9,12,11]
["Totalt",14,19,22,14,36,14,14,14,19,19]
["Andel",0.8571428571428571,0.84210526315789469,0.81818181818181823,0.9285714285714286,0.86111111111111116,1,0.7142857142857143,0.6428571428571429,0.63157894736842102,0.57894736842105265]
[]
[2011,"Snittvikt",null,null,null,null,"Taggsnitt","Snitt utlägg","Snittålder",null,"Äggsnitt"]
[null,"Tjur","Ko","Tjurkalv","Kvigkalv","Kalv",null,null,"Tjur","Ko"]
[null,164.63157894736841,143.64516129032259,54.61904761904762,49.666666666666664,52.333333333333336,5.0384615384615383,78.916666666666671,0.18181818181818182,0,0.66666666666666663]
["inkl övriga",167,null,null,null,null,5.625,80.692307692307693,0.18181818181818182,{"$error":"#VALUE!"},0.61538461538461542]
["Antal",19,31,21,18,39,26,12,11,16,12]
["Totalt",26,36,26,22,48,26,26,26,36,36]
["Andel",0.73076923076923073,0.86111111111111116,0.80769230769230771,0.81818181818181823,0.8125,1,0.46153846153846156,0.42307692307692307,0.44444444444444442,0.33333333333333331]
[]
[2012,"Snittvikt",null,null,null,null,"Taggsnitt","Snitt utlägg","Snittålder",null,"Äggsnitt"]
[null,"Tjur","Ko","Tjurkalv","Kvigkalv","Kalv",null,null,"Tjur","Ko"]
[null,167.88235294117646,147.54545454545453,54.3,53.482758620689658,53.816326530612244,6.1578947368421053,88.272727272727266,2.5,3.4615384615384617,1]
["inkl övriga",0,null,null,null,null,0,0,0,0,0]
["Antal",17,22,20,29,49,19,11,12,13,6]
["Totalt",23,27,24,34,58,23,23,23,27,27]
["Andel",0.73913043478260865,0.81481481481481477,0.83333333333333337,0.8529411764705882,0.84482758620689657,0.82608695652173914,0.47826086956521741,0.52173913043478259,0.48148148148148145,0.22222222222222221]
[]
[2013,"Snittvikt",null,null,null,null,"Taggsnitt","Snitt utlägg","Snittålder",null,"Äggsnitt"]
[null,"Tjur","Ko","Tjurkalv","Kvigkalv","Kalv",null,null,"Tjur","Ko"]
[null,159.04,142.19,48.64,50.428571428571431,49.129629629629626,4.1363636363636367,68.083333333333329,3.2941176470588234,4,1]
["inkl övriga",0,null,null,null,null,0,0,0,0,0]
["Antal",22,26,26,28,54,22,12,17,17,10]
["Totalt",25,28,30,30,60,25,25,25,28,28]
["Andel",0.88,0.9285714285714286,0.8666666666666667,0.93333333333333335,0.9,0.88,0.48,0.68,0.6071428571428571,0.35714285714285715]
[]
[2014,"Snittvikt",null,null,null,null,"Taggsnitt","Snitt utlägg","Snittålder",null,"Äggsnitt"]
[null,"Tjur","Ko","Tjurkalv","Kvigkalv","Kalv",null,null,"Tjur","Ko"]
[null,182.68421052631578,146.84210526315789,52.941176470588232,52.6,52.78125,5.7368421052631575,84.15384615384616,3.8,3.2,1.1428571428571428]
["inkl övriga",0,null,null,null,null,0,0,0,0.36363636363636365,0]
["Antal",19,19,17,15,32,19,13,10,10,7]
["Totalt",20,19,17,18,35,20,20,20,19,19]
["Andel",0.95,1,1,0.83333333333333337,0.91428571428571426,0.95,0.65,0.5,0.52631578947368418,0.36842105263157893]
[]
[2015,"Snittvikt",null,null,null,null,"Taggsnitt","Snitt utlägg","Snittålder",null,"Äggsnitt"]
[null,"Tjur","Ko","Tjurkalv","Kvigkalv","Kalv",null,null,"Tjur","Ko"]
[null,169.75,133.30769230769201,54.571428571428569,56.615384615384613,55.555555555555557,5.4782608695652177,85.333333333333329,3.1111111111111112,1.25,0.8]
["inkl övriga",0,null,null,null,null,0,0,0,0,0]
["Antal",20,13,14,13,27,23,12,9,4,5]
["Totalt",24,21,21,24,45,24,24,24,21,21]
["Andel",0.83333333333333337,0.61904761904761907,0.66666666666666663,0.54166666666666663,0.6,0.95833333333333337,0.5,0.375,0.19047619047619047,0.23809523809523808]
[]
[2016,"Snittvikt",null,null,null,null,"Taggsnitt","Snitt utlägg","Snittålder",null,"Äggsnitt"]
[null,"Tjur","Ko","Tjurkalv","Kvigkalv","Kalv",null,null,"Tjur","Ko"]
[null,174.94,147.35,60.39,54.5,57.81,4.63,70.599999999999994,3.36,2.77,0.92]
["inkl övriga",0,null,null,null,null,0,0,0,0,0]
["Antal",16,17,18,15,31,16,10,11,13,13]
["Totalt",20,21,25,22,47,20,20,20,21,21]
["Andel",0.8,0.81,0.72,0.68,0.66,0.8,0.5,0.55500000000000005,0.62,0.62]
[]
[2017,"Snittvikt",null,null,null,null,"Taggsnitt","Snitt utlägg","Snittålder",null,"Äggsnitt"]
[null,"Tjur","Ko","Tjurkalv","Kvigkalv","Kalv",null,null,"Tjur","Ko"]
[null,179.45,138.46,55.36,56.3,55.81,5.82,77.33,3.67,3.13,0.8]
["inkl övriga"," ",null,null,null,null," "," "," "," "," "]
["Antal",11,13,11,10,21,17,3,9,15,5]
["Totalt",18,22,29,19,48,18,18,18,22,22]
["Andel",0.61,0.59,0.38,0.53,0.44,0.94,0.17,0.5,0.68,0.23]
[]
[]
[2018,"Snittvikt",null,null,null,null,"Taggsnitt","Snitt utlägg","Snittålder",null,"Äggsnitt"]
[null,"Tjur","Ko","Tjurkalv","Kvigkalv","Kalv",null,null,"Tjur","Ko"]
[null,167.6,139.30000000000001,49.6,42.2,44.5,4.5999999999999996,81,3.2,3.2,0.67]
["inkl övriga"," ",null,null,null,null," "," "," "," "," "]
["Antal",10,10,7,10,17,10,5,10,10,7]
["Totalt",12,11,10,12,22,83,10,12,11,11]
["Andel",0.83,0.90900000000000003,0.7,0.83,0.77,1,0.5,0.83,0.9,0.64]
[]
[]
[2019,"Snittvikt",null,null,null,null,"Taggsnitt","Snitt utlägg","Snittålder",null,"Äggsnitt"]
[null,"Tjur","Ko","Tjurkalv","Kvigkalv","Kalv",null,null,"Tjur","Ko"]
[null," "," "," "," "," "," "," "," "," "," "]
["inkl övriga"," ",null,null,null,null," "," "," "," "," "]
["Antal"," "," "," "," "," "," "," "," "," "," "]
["Totalt"," "," "," "," "," "," "," "," "," "," "]
["Andel"," "," "," "," "," "," "," "," "," "," "]
[]
[]
[null,2008,2009,2010,2011,2012,2013,2014,2015,2016,2017,2018,2019]
["Vikt tjur",{"$f":"B3","v":194.91},{"$f":"B11","v":175.52941176470588},{"$f":"B19","v":176.83333333333334},{"$f":"B27","v":164.63157894736841},{"$f":"B35","v":167.88235294117646},{"$f":"B43","v":159.04},{"$f":"B51","v":182.68421052631578},{"$f":"B59","v":169.75},{"$f":"B67","v":174.94},{"$f":"B75","v":179.45},{"$f":"B84","v":167.6}]
["Vikt hondjur",{"$f":"C3","v":147.13},{"$f":"C11","v":154.5},{"$f":"C19","v":144.75},{"$f":"C27","v":143.64516129032259},{"$f":"C35","v":147.54545454545453},{"$f":"C43","v":142.19},{"$f":"C51","v":146.84210526315789},{"$f":"C59","v":133.30769230769201},{"$f":"C67","v":147.35},{"$f":"C75","v":138.46},{"$f":"C84","v":139.30000000000001}]
["vikt tjurkalv",{"$f":"D3","v":61.45},{"$f":"D11","v":57.615384615384613},{"$f":"D19","v":53.833333333333336},{"$f":"D27","v":54.61904761904762},{"$f":"D35","v":54.3},{"$f":"D43","v":48.64},{"$f":"D51","v":52.941176470588232},{"$f":"D59","v":54.571428571428569},{"$f":"D67","v":60.39},55.36,{"$f":"D84","v":49.6}]
["vikt kvigkalv",{"$f":"E3","v":58.95},{"$f":"E11","v":53.84375},{"$f":"E19","v":48.307692307692307},{"$f":"E27","v":49.666666666666664},{"$f":"E35","v":53.482758620689658},{"$f":"E43","v":50.428571428571431},{"$f":"E51","v":52.6},{"$f":"E59","v":56.615384615384613},{"$f":"E67","v":54.5},56.3,{"$f":"E84","v":42.2}]
["viktsnitt kalv",{"$f":"F3","v":60.44},{"$f":"F11","v":55.53448275862069},{"$f":"F19","v":51.516129032258064},{"$f":"F27","v":52.333333333333336},{"$f":"F35","v":53.816326530612244},{"$f":"F43","v":49.129629629629626},{"$f":"F51","v":52.78125},{"$f":"F59","v":55.555555555555557},{"$f":"F67","v":57.81},{"$f":"F75","v":55.81},{"$f":"F84","v":44.5}]
["ålder tjur",{"$f":"I3","v":5},{"$f":"I11","v":3.1666666666666665},{"$f":"I19","v":3.25},null,{"$f":"I35","v":2.5},{"$f":"I43","v":3.2941176470588234},{"$f":"I51","v":3.8},{"$f":"I59","v":3.1111111111111112},{"$f":"I67","v":3.36},{"$f":"I75","v":3.67},{"$f":"I84","v":3.2}]
["ålder hondjur",{"$f":"J3","v":4.1578947368421053},{"$f":"J11","v":6},{"$f":"J19","v":2.7142857142857144},null,{"$f":"J35","v":3.4615384615384617},{"$f":"J43","v":4},{"$f":"J51","v":3.2},{"$f":"J59","v":1.25},{"$f":"J67","v":2.77},{"$f":"J75","v":3.13},{"$f":"J84","v":3.2}]
["taggsnitt",{"$f":"G3","v":5.95},{"$f":"G11","v":5.4444444444444446},{"$f":"G19","v":4.7142857142857144},{"$f":"G27","v":5.0384615384615383},{"$f":"G35","v":6.1578947368421053},{"$f":"G43","v":4.1363636363636367},{"$f":"G51","v":5.7368421052631575},{"$f":"G59","v":5.4782608695652177},{"$f":"G67","v":4.63},{"$f":"G75","v":5.82},{"$f":"G84","v":4.5999999999999996}]
["snittutlägg",{"$f":"H3","v":85.45},{"$f":"H11","v":73.166666666666671},{"$f":"H19","v":71.900000000000006},{"$f":"H27","v":78.916666666666671},{"$f":"H35","v":88.272727272727266},{"$f":"H43","v":68.083333333333329},{"$f":"H51","v":84.15384615384616},{"$f":"H59","v":85.333333333333329},{"$f":"H67","v":70.599999999999994},{"$f":"H75","v":77.33},{"$f":"H84","v":81}]
["äggsnitt",{"$f":"K3","v":1.31},null,null,{"$f":"K27","v":0.66666666666666663},{"$f":"K35","v":1},{"$f":"K43","v":1},{"$f":"K51","v":1.1428571428571428},{"$f":"K59","v":0.8},{"$f":"K67","v":0.92},{"$f":"K75","v":0.8},{"$f":"K84","v":0.67}]