Workbook

Sheet Älgobs
B2: Antal observerade älgar 1994-
B3: 1994 | C3: 1995 | D3: 1996 | E3: 1997 | F3: 1998 | G3: 1999 | H3: 2000 | I3: 2001 | J3: 2002 | K3: 2003 | L3: 2004 | M3: 2005 | N3: 2006 | O3: 2007 | P3: 2008 | Q3: 2009 | R3: 2010 | S3: 2011 | T3: 2012 | U3: 2013 | V3: 2014 | W3: 2015 | X3: 2016 | Y3: 2017 | Z3: 2018 | AA3: 2019 | AB3: 2020 | AC3: 2021 | AD3: 2022 | AE3: 2023 | AF3: 2024 | AG3: 2025
A4: Mandagar | E4: 787 | F4: 517 | G4: 1077 | H4: 998 | I4: 1174 | J4: 1146 | K4: 1102 | L4: 908 | M4: 926 | N4: 1102 | O4: 1085 | P4: 1369 | Q4: 1296 | R4: 1253 | S4: 1414 | T4: 1653 | U4: 1553 | V4: 1407 | W4: 1609 | X4: 1389 | Y4: 1255 | Z4: 1312 | AA4: 1391 | AB4: 1332 | AC4: 1350
A5: Mantimmar | E5: 5454 | F5: 3394 | G5: 7492 | H5: 6375 | I5: 8197 | J5: 7301 | K5: 7327 | L5: 5933 | M5: 6157 | N5: 7851 | O5: 6894 | P5: 8451 | Q5: 7906 | R5: 7834 | S5: 8923 | T5: 8463 | U5: 8964 | V5: 8591 | W5: 10077 | X5: 8134 | Y5: 8196 | Z5: 8750 | AA5: 8773 | AB5: 8490 | AC5: 8367 | AD5: 7985 | AE5: 6761 | AF5: 7223 | AG5: 6864
A6: Tjur | B6: 98 | C6: 83 | D6: 53 | E6: 104 | F6: 66 | G6: 104 | H6: 98 | I6: 85 | J6: 97 | K6: 83 | L6: 67 | M6: 78 | N6: 104 | O6: 155 | P6: 160 | Q6: 164 | R6: 178 | S6: 218 | T6: 185 | U6: 131 | V6: 128 | W6: 163 | X6: 122 | Y6: 84 | Z6: 72 | AA6: 125 | AB6: 159 | AC6: 175 | AD6: 144 | AE6: 174 | AF6: 138 | AG6: 149
A7: Ko | B7: 101 | C7: 88 | D7: 54 | E7: 108 | F7: 85 | G7: 115 | H7: 75 | I7: 79 | J7: 60 | K7: 72 | L7: 58 | M7: 63 | N7: 92 | O7: 118 | P7: 121 | Q7: 98 | R7: 145 | S7: 150 | T7: 141 | U7: 134 | V7: 94 | W7: 108 | X7: 128 | Y7: 75 | Z7: 86 | AA7: 150 | AB7: 120 | AC7: 170 | AD7: 145 | AE7: 136 | AF7: 103 | AG7: 82
A8: Ko+1 | B8: 102 | C8: 77 | D8: 89 | E8: 89 | F8: 66 | G8: 103 | H8: 50 | I8: 71 | J8: 95 | K8: 81 | L8: 55 | M8: 54 | N8: 86 | O8: 95 | P8: 132 | Q8: 105 | R8: 99 | S8: 95 | T8: 93 | U8: 111 | V8: 76 | W8: 109 | X8: 69 | Y8: 70 | Z8: 45 | AA8: 109 | AB8: 103 | AC8: 98 | AD8: 62 | AE8: 82 | AF8: 122 | AG8: 90
A9: Ko+2 | B9: 55 | C9: 62 | D9: 34 | E9: 56 | F9: 25 | G9: 37 | H9: 48 | I9: 28 | J9: 45 | K9: 36 | L9: 21 | M9: 19 | N9: 35 | O9: 47 | P9: 44 | Q9: 45 | R9: 29 | S9: 44 | T9: 40 | U9: 43 | V9: 31 | W9: 20 | X9: 17 | Y9: 19 | Z9: 16 | AA9: 14 | AB9: 17 | AC9: 30 | AD9: 14 | AE9: 19 | AF9: 24 | AG9: 20
A10: Kalv | B10: 14 | C10: 11 | D10: 13 | E10: 6 | F10: 15 | G10: 4 | H10: 16 | I10: 5 | J10: 2 | K10: 4 | L10: 1 | M10: 15 | N10: 5 | O10: 3 | P10: 10 | Q10: 9 | R10: 6 | S10: 10 | T10: 8 | U10: 11 | V10: 4 | W10: 7 | X10: 4 | Y10: 11 | Z10: 2 | AA10: 6 | AB10: 1 | AC10: 6 | AD10: 12 | AE10: 7 | AF10: 4 | AG10: 2
A11: Okänd | B11: 40 | C11: 60 | D11: 46 | E11: 40 | F11: 13 | G11: 37 | H11: 16 | I11: 15 | J11: 15 | K11: 44 | L11: 25 | M11: 40 | N11: 31 | O11: 41 | P11: 46 | Q11: 35 | R11: 47 | S11: 68 | T11: 37 | U11: 58 | V11: 44 | W11: 20 | X11: 31 | Y11: 38 | Z11: 16 | AA11: 9 | AB11: 20 | AC11: 20 | AD11: 21 | AE11: 23 | AF11: 29 | AG11: 59
A12: Totalt vuxen | B12: =B6+B7+B8+B9 -> 356 | C12: =C6+C7+C8+C9 -> 310 | D12: =D6+D7+D8+D9 -> 230 | E12: =E6+E7+E8+E9 -> 357 | F12: =F6+F7+F8+F9 -> 242 | G12: =G6+G7+G8+G9 -> 359 | H12: =H6+H7+H8+H9 -> 271 | I12: =I6+I7+I8+I9 -> 263 | ... AG12: =AG6+AG7+AG8+AG9 -> 341
A13: Totalt kalv | B13: =B8+2*B9+B10 -> 226 | C13: =C8+2*C9+C10 -> 212 | D13: =D8+2*D9+D10 -> 170 | E13: =E8+2*E9+E10 -> 207 | F13: =F8+2*F9+F10 -> 131 | G13: =G8+2*G9+G10 -> 181 | H13: =H8+2*H9+H10 -> 162 | I13: =I8+2*I9+I10 -> 132 | ... AG13: =AG8+2*AG9+AG10 -> 132
A14: Totalt | B14: =B6+B7+2*B8+3*B9+B10+B11 -> 622 | C14: =C6+C7+2*C8+3*C9+C10+C11 -> 582 | D14: =D6+D7+2*D8+3*D9+D10+D11 -> 446 | E14: =E6+E7+2*E8+3*E9+E10+E11 -> 604 | F14: =F6+F7+2*F8+3*F9+F10+F11 -> 386 | G14: =G6+G7+2*G8+3*G9+G10+G11 -> 577 | H14: =H6+H7+2*H8+3*H9+H10+H11 -> 449 | I14: =I6+I7+2*I8+3*I9+I10+I11 -> 410 | ... AG14: =AG6+AG7+2*AG8+3*AG9+AG10+AG11 -> 532
A16: tjurandel av vuxna | B16: =B6/B12 -> 0.2752809 | C16: =C6/C12 -> 0.26774194 | D16: =D6/D12 -> 0.23043478 | E16: =E6/E12 -> 0.29131653 | F16: =F6/F12 -> 0.27272727 | G16: =G6/G12 -> 0.28969359 | H16: =H6/H12 -> 0.36162362 | I16: =I6/I12 -> 0.32319392 | ... AG16: =AG6/AG12 -> 0.43695015
A17: kalv/hondjur | B17: =(B8+2*B9+B10)/(B7+B8+B9) -> 0.87596899 | C17: =(C8+2*C9+C10)/(C7+C8+C9) -> 0.9339207 | D17: =(D8+2*D9+D10)/(D7+D8+D9) -> 0.96045198 | E17: =(E8+2*E9+E10)/(E7+E8+E9) -> 0.81818182 | F17: =(F8+2*F9+F10)/(F7+F8+F9) -> 0.74431818 | G17: =(G8+2*G9+G10)/(G7+G8+G9) -> 0.70980392 | H17: =(H8+2*H9+H10)/(H7+H8+H9) -> 0.93641618 | I17: =(I8+2*I9+I10)/(I7+I8+I9) -> 0.74157303 | ... AG17: =(AG8+2*AG9+AG10)/(AG7+AG8+AG9) -> 0.6875
A18: kalvandel av skjutna | B18: ='Fällda djur'!B8/'Fällda djur'!B9 -> 0.42424242 | C18: ='Fällda djur'!C8/'Fällda djur'!C9 -> 0.43055556 | D18: ='Fällda djur'!D8/'Fällda djur'!D9 -> 0.4025974 | E18: ='Fällda djur'!E8/'Fällda djur'!E9 -> 0.45783133 | F18: ='Fällda djur'!F8/'Fällda djur'!F9 -> 0.39393939 | G18: ='Fällda djur'!G8/'Fällda djur'!G9 -> 0.39705882 | H18: ='Fällda djur'!H8/'Fällda djur'!H9 -> 0.35714286 | I18: ='Fällda djur'!I8/'Fällda djur'!I9 -> 0.34615385 | ... AG18: ='Fällda djur'!AG8/'Fällda djur'!AG9 -> 0.50649351
A19: Fördelning
A20: Tjur | B20: =B6/(B6+B7+2*B8+3*B9+B10) -> 0.16838488 | C20: =C6/(C6+C7+2*C8+3*C9+C10) -> 0.15900383 | D20: =D6/(D6+D7+2*D8+3*D9+D10) -> 0.1325 | E20: =E6/(E6+E7+2*E8+3*E9+E10) -> 0.18439716 | F20: =F6/(F6+F7+2*F8+3*F9+F10) -> 0.1769437 | G20: =G6/(G6+G7+2*G8+3*G9+G10) -> 0.19259259 | H20: =H6/(H6+H7+2*H8+3*H9+H10) -> 0.22632794 | I20: =I6/(I6+I7+2*I8+3*I9+I10) -> 0.21518987 | ... AG20: =AG6/(AG6+AG7+2*AG8+3*AG9+AG10) -> 0.31501057
A21: Ko/Kviga | B21: =(B7+B8+B9)/(B6+B7+2*B8+3*B9+B10) -> 0.44329897 | C21: =(C7+C8+C9)/(C6+C7+2*C8+3*C9+C10) -> 0.4348659 | D21: =(D7+D8+D9)/(D6+D7+2*D8+3*D9+D10) -> 0.4425 | E21: =(E7+E8+E9)/(E6+E7+2*E8+3*E9+E10) -> 0.44858156 | F21: =(F7+F8+F9)/(F6+F7+2*F8+3*F9+F10) -> 0.47184987 | G21: =(G7+G8+G9)/(G6+G7+2*G8+3*G9+G10) -> 0.47222222 | H21: =(H7+H8+H9)/(H6+H7+2*H8+3*H9+H10) -> 0.39953811 | I21: =(I7+I8+I9)/(I6+I7+2*I8+3*I9+I10) -> 0.45063291 | ... AG21: =(AG7+AG8+AG9)/(AG6+AG7+2*AG8+3*AG9+AG10) -> 0.40591966
A22: Kalv | B22: =(B8+2*B9+B10)/(B6+B7+2*B8+3*B9+B10) -> 0.38831615 | C22: =(C8+2*C9+C10)/(C6+C7+2*C8+3*C9+C10) -> 0.40613027 | D22: =(D8+2*D9+D10)/(D6+D7+2*D8+3*D9+D10) -> 0.425 | E22: =(E8+2*E9+E10)/(E6+E7+2*E8+3*E9+E10) -> 0.36702128 | F22: =(F8+2*F9+F10)/(F6+F7+2*F8+3*F9+F10) -> 0.35120643 | G22: =(G8+2*G9+G10)/(G6+G7+2*G8+3*G9+G10) -> 0.33518519 | H22: =(H8+2*H9+H10)/(H6+H7+2*H8+3*H9+H10) -> 0.37413395 | I22: =(I8+2*I9+I10)/(I6+I7+2*I8+3*I9+I10) -> 0.33417722 | ... AG22: =(AG8+2*AG9+AG10)/(AG6+AG7+2*AG8+3*AG9+AG10) -> 0.27906977
A23: Fördelning hondjur
A24: Ensam | B24: =B7/SUM(B7:B9) -> 0.39147287 | C24: =C7/SUM(C7:C9) -> 0.3876652 | D24: =D7/SUM(D7:D9) -> 0.30508475 | E24: =E7/SUM(E7:E9) -> 0.42687747 | F24: =F7/SUM(F7:F9) -> 0.48295455 | G24: =G7/SUM(G7:G9) -> 0.45098039 | H24: =H7/SUM(H7:H9) -> 0.43352601 | I24: =I7/SUM(I7:I9) -> 0.44382022 | ... AG24: =AG7/SUM(AG7:AG9) -> 0.42708333
A25: Ko + 1 kalv | B25: =B8/SUM(B7:B9) -> 0.39534884 | C25: =C8/SUM(C7:C9) -> 0.33920705 | D25: =D8/SUM(D7:D9) -> 0.50282486 | E25: =E8/SUM(E7:E9) -> 0.35177866 | F25: =F8/SUM(F7:F9) -> 0.375 | G25: =G8/SUM(G7:G9) -> 0.40392157 | H25: =H8/SUM(H7:H9) -> 0.28901734 | I25: =I8/SUM(I7:I9) -> 0.3988764 | ... AG25: =AG8/SUM(AG7:AG9) -> 0.46875
A26: Ko + 2 kalvar | B26: =B9/SUM(B7:B9) -> 0.21317829 | C26: =C9/SUM(C7:C9) -> 0.27312775 | D26: =D9/SUM(D7:D9) -> 0.1920904 | E26: =E9/SUM(E7:E9) -> 0.22134387 | F26: =F9/SUM(F7:F9) -> 0.14204545 | G26: =G9/SUM(G7:G9) -> 0.14509804 | H26: =H9/SUM(H7:H9) -> 0.27745665 | I26: =I9/SUM(I7:I9) -> 0.15730337 | ... AG26: =AG9/SUM(AG7:AG9) -> 0.10416667
A29: Obs per mantimma 1997- (intressantast är 2004- då samma avskjutningsregler gällt!)
B30: 1994 | C30: 1995 | D30: 1996 | E30: 1997 | F30: 1998 | G30: 1999 | H30: 2000 | I30: 2001 | J30: 2002 | K30: 2003 | L30: 2004 | M30: 2005 | N30: 2006 | O30: 2007 | P30: 2008 | Q30: 2009 | R30: 2010 | S30: 2011 | T30: 2012 | U30: 2013 | V30: 2014 | W30: 2015 | X30: 2016 | Y30: 2017 | Z30: 2018 | AA30: 2019 | AB30: 2020 | AC30: 2021 | AD30: 2022 | AE30: 2023 | AF30: 2024 | AG30: 2025
A31: Tjur | E31: =E6/E$5 -> 0.019068574 | F31: =F6/F$5 -> 0.019446081 | G31: =G6/G$5 -> 0.013881474 | H31: =H6/H$5 -> 0.015372549 | I31: =I6/I$5 -> 0.010369647 | J31: =J6/J$5 -> 0.013285851 | K31: =K6/K$5 -> 0.011327965 | L31: =L6/L$5 -> 0.011292769 | ... AG31: =AG6/AG$5 -> 0.021707459
A32: Ko | E32: =E7/E$5 -> 0.01980198 | F32: =F7/F$5 -> 0.025044196 | G32: =G7/G$5 -> 0.015349706 | H32: =H7/H$5 -> 0.011764706 | I32: =I7/I$5 -> 0.0096376723 | J32: =J7/J$5 -> 0.0082180523 | K32: =K7/K$5 -> 0.0098266685 | L32: =L7/L$5 -> 0.0097758301 | ... AG32: =AG7/AG$5 -> 0.011946387
A33: Ko+1 | E33: =2*E8/E$5 -> 0.032636597 | F33: =2*F8/F$5 -> 0.038892163 | G33: =2*G8/G$5 -> 0.027495996 | H33: =2*H8/H$5 -> 0.015686275 | I33: =2*I8/I$5 -> 0.017323411 | J33: =2*J8/J$5 -> 0.026023832 | K33: =2*K8/K$5 -> 0.022110004 | L33: =2*L8/L$5 -> 0.018540367 | ... AG33: =2*AG8/AG$5 -> 0.026223776
A34: Ko+2 | E34: =3*E9/E$5 -> 0.03080308 | F34: =3*F9/F$5 -> 0.02209782 | G34: =3*G9/G$5 -> 0.014815804 | H34: =3*H9/H$5 -> 0.022588235 | I34: =3*I9/I$5 -> 0.010247652 | J34: =3*J9/J$5 -> 0.018490618 | K34: =3*K9/K$5 -> 0.014740003 | L34: =3*L9/L$5 -> 0.010618574 | ... AG34: =3*AG9/AG$5 -> 0.0087412587
A35: Kalv | E35: =E10/E$5 -> 0.00110011 | F35: =F10/F$5 -> 0.0044195639 | G35: =G10/G$5 -> 0.00053390283 | H35: =H10/H$5 -> 0.0025098039 | I35: =I10/I$5 -> 0.00060997926 | J35: =J10/J$5 -> 0.00027393508 | K35: =K10/K$5 -> 0.00054592603 | L35: =L10/L$5 -> 0.00016854879 | ... AG35: =AG10/AG$5 -> 0.00029137529
A36: Okänd | E36: =E11/E$5 -> 0.0073340667 | F36: =F11/F$5 -> 0.0038302887 | G36: =G11/G$5 -> 0.0049386012 | H36: =H11/H$5 -> 0.0025098039 | I36: =I11/I$5 -> 0.0018299378 | J36: =J11/J$5 -> 0.0020545131 | K36: =K11/K$5 -> 0.0060051863 | L36: =L11/L$5 -> 0.0042137199 | ... AG36: =AG11/AG$5 -> 0.0085955711
A37: Hondjur | E37: =SUM(E7:E9)/E$5 -> 0.046387972 | F37: =SUM(F7:F9)/F$5 -> 0.051856217 | G37: =SUM(G7:G9)/G$5 -> 0.034036305 | H37: =SUM(H7:H9)/H$5 -> 0.027137255 | I37: =SUM(I7:I9)/I$5 -> 0.021715262 | J37: =SUM(J7:J9)/J$5 -> 0.027393508 | K37: =SUM(K7:K9)/K$5 -> 0.025795005 | L37: =SUM(L7:L9)/L$5 -> 0.022585539 | ... AG37: =SUM(AG7:AG9)/AG$5 -> 0.027972028
A38: Kalv | E38: =E13/E$5 -> 0.037953795 | F38: =F13/F$5 -> 0.038597525 | G38: =G13/G$5 -> 0.024159103 | H38: =H13/H$5 -> 0.025411765 | I38: =I13/I$5 -> 0.016103452 | J38: =J13/J$5 -> 0.02561293 | K38: =K13/K$5 -> 0.021427597 | L38: =L13/L$5 -> 0.016517782 | ... AG38: =AG13/AG$5 -> 0.019230769
A39: Totalt | E39: =E14/E$5 -> 0.11074441 | F39: =F14/F$5 -> 0.11373011 | G39: =G14/G$5 -> 0.077015483 | H39: =H14/H$5 -> 0.070431373 | I39: =I14/I$5 -> 0.050018299 | J39: =J14/J$5 -> 0.068346802 | K39: =K14/K$5 -> 0.064555753 | L39: =L14/L$5 -> 0.05460981 | ... AG39: =AG14/AG$5 -> 0.077505828
A40: Ändring mot föreg år | F40: =(F39-E39)/E39 -> 0.026960316 | G40: =(G39-F39)/F39 -> -0.32282241 | H40: =(H39-G39)/G39 -> -0.08549074 | I40: =(I39-H39)/H39 -> -0.28982927 | J40: =(J39-I39)/I39 -> 0.36643594 | K40: =(K39-J39)/J39 -> -0.055467835 | L40: =(L39-K39)/K39 -> -0.1540675 | M40: =(M39-L39)/L39 -> 0.073661515 | ... AG40: =(AG39-AF39)/AF39 -> -0.051144759

Sheet Fällda djur
B1: Antal fällda djur 1994-
B2: 1994 | C2: 1995 | D2: 1996 | E2: 1997 | F2: 1998 | G2: 1999 | H2: 2000 | I2: 2001 | J2: 2002 | K2: 2003 | L2: 2004 | M2: 2005 | N2: 2006 | O2: 2007 | P2: 2008 | Q2: 2009 | R2: 2010 | S2: 2011 | T2: 2012 | U2: 2013 | V2: 2014 | W2: 2015 | X2: 2106 | Y2: 2017 | Z2: 2018 | AA2: 2019 | AB2: 2020 | AC2: 2021 | AD2: 2022 | AE2: 2023 | AF2: 2024 | AG2: 2025
A3: Fällda Tjur | B3: 19 | C3: 22 | D3: 21 | E3: 27 | F3: 29 | G3: 34 | H3: 40 | I3: 33 | J3: 25 | K3: 25 | L3: 6 | M3: 6 | N3: 10 | O3: 11 | P3: 22 | Q3: 18 | R3: 14 | S3: 26 | T3: 24 | U3: 25 | V3: 21 | W3: 24 | X3: 20 | Y3: 18 | Z3: 12 | AA3: 3 | AB3: 6 | AC3: 11 | AD3: 12 | AE3: 14 | AF3: 16 | AG3: 21
A4: Fällda Kor | B4: 19 | C4: 19 | D4: 25 | E4: 18 | F4: 31 | G4: 48 | H4: 50 | I4: 18 | J4: 15 | K4: 14 | L4: 17 | M4: 19 | N4: 20 | O4: 18 | P4: 21 | Q4: 15 | R4: 19 | S4: 36 | T4: 26 | U4: 28 | V4: 19 | W4: 21 | X4: 22 | Y4: 22 | Z4: 11 | AA4: 7 | AB4: 5 | AC4: 14 | AD4: 13 | AE4: 11 | AF4: 16 | AG4: 17
A5: Fällda Tjurkalv | B5: 17 | C5: 16 | D5: 13 | E5: 22 | F5: 21 | G5: 28 | H5: 22 | I5: 15 | J5: 18 | K5: 18 | L5: 14 | M5: 18 | N5: 24 | O5: 30 | P5: 33 | Q5: 28 | R5: 22 | S5: 26 | T5: 25 | U5: 30 | V5: 17 | W5: 21 | X5: 25 | Y5: 29 | Z5: 10 | AA5: 13 | AB5: 15 | AC5: 15 | AD5: 19 | AE5: 16 | AF5: 20 | AG5: 24
A6: Fällda Kvigkalv | B6: 11 | C6: 15 | D6: 18 | E6: 16 | F6: 18 | G6: 26 | H6: 28 | I6: 12 | J6: 14 | K6: 12 | L6: 13 | M6: 12 | N6: 17 | O6: 15 | P6: 24 | Q6: 38 | R6: 14 | S6: 23 | T6: 33 | U6: 30 | V6: 18 | W6: 24 | X6: 23 | Y6: 19 | Z6: 12 | AA6: 11 | AB6: 8 | AC6: 18 | AD6: 14 | AE6: 12 | AF6: 24 | AG6: 15
A7: Totalt vuxen | B7: =B3+B4 -> 38 | C7: =C3+C4 -> 41 | D7: =D3+D4 -> 46 | E7: =E3+E4 -> 45 | F7: =F3+F4 -> 60 | G7: =G3+G4 -> 82 | H7: =H3+H4 -> 90 | I7: =I3+I4 -> 51 | ... AG7: =AG3+AG4 -> 38
A8: Toltalt kalv | B8: =B5+B6 -> 28 | C8: =C5+C6 -> 31 | D8: =D5+D6 -> 31 | E8: =E5+E6 -> 38 | F8: =F5+F6 -> 39 | G8: =G5+G6 -> 54 | H8: =H5+H6 -> 50 | I8: =I5+I6 -> 27 | ... AE8: =AE5+AE6 -> 28 | AF8: 44 | AG8: 39
A9: Totalt | B9: =SUM(B3:B6) -> 66 | C9: =SUM(C3:C6) -> 72 | D9: =SUM(D3:D6) -> 77 | E9: =SUM(E3:E6) -> 83 | F9: =SUM(F3:F6) -> 99 | G9: =SUM(G3:G6) -> 136 | H9: =SUM(H3:H6) -> 140 | I9: =SUM(I3:I6) -> 78 | ... AG9: =SUM(AG3:AG6) -> 77
A12: Areal Ha totalt | B12: 17306 | C12: 17508 | D12: 17508 | E12: 17508 | F12: 17847 | G12: 23492 | H12: 23729 | I12: 23672 | J12: 22812 | K12: 23197 | L12: 23202 | M12: 22913 | N12: 22973 | O12: 23240 | P12: 26789 | Q12: 26828 | R12: 26550 | S12: 26634 | T12: 28405 | U12: 29490 | V12: 29490 | W12: 31404 | X12: 31292 | Y12: 31292 | Z12: 31292 | AA12: 33178 | AB12: 33178 | AC12: 33178 | AD12: 32939 | AE12: 32939 | AF12: 32746 | AG12: 32929
B15: Antal fällda djur per 1000 Ha 1994-
B16: 1994 | C16: 1995 | D16: 1996 | E16: 1997 | F16: 1998 | G16: 1999 | H16: 2000 | I16: 2001 | J16: 2002 | K16: 2003 | L16: 2004 | M16: 2005 | N16: 2006 | O16: 2007 | P16: 2008 | Q16: 2009 | R16: 2010 | S16: 2011 | T16: 2012 | U16: 2013 | V16: 2014 | W16: 2015 | X16: 2016 | Y16: 2017 | Z16: 2018 | AA16: 2019 | AB16: 2020 | AC16: 2021 | AD16: 2022 | AE16: 2023 | AF16: 2024 | AG16: 2025
A17: Fällda Tjur | B17: =SUM(B3*1000/B12) -> 1.0978851 | C17: =SUM(C3*1000/C12) -> 1.2565684 | D17: =SUM(D3*1000/D12) -> 1.1994517 | E17: =SUM(E3*1000/E12) -> 1.5421522 | F17: =SUM(F3*1000/F12) -> 1.624923 | G17: =SUM(G3*1000/G12) -> 1.4473012 | H17: =SUM(H3*1000/H12) -> 1.685701 | I17: =SUM(I3*1000/I12) -> 1.394052 | ... K17: =SUM(K3*1000/K12) -> 1.0777256 | L17: =SUM(L3/L12*1000) -> 0.2585984 | M17: =SUM(M3/M12*1000) -> 0.26186008 | N17: =SUM(N3/N12*1000) -> 0.43529361 | O17: =SUM(O3/O12*1000) -> 0.47332186 | P17: =SUM(P3/P12*1000) -> 0.8212326 | Q17: =SUM(Q3/Q12*1000) -> 0.67094081 | R17: =SUM(R3/R12*1000) -> 0.52730697 | S17: =SUM(S3/S12*1000) -> 0.97619584 | ... AG17: =SUM(AG3/AG12*1000) -> 0.63773573
A18: Fällda Kor | B18: =SUM(B4*1000/B12) -> 1.0978851 | C18: =SUM(C4*1000/C12) -> 1.0852182 | D18: =SUM(D4*1000/D12) -> 1.4279187 | E18: =SUM(E4*1000/E12) -> 1.0281014 | F18: =SUM(F4*1000/F12) -> 1.7369866 | G18: =SUM(G4*1000/G12) -> 2.0432488 | H18: =SUM(H4*1000/H12) -> 2.1071263 | I18: =SUM(I4*1000/I12) -> 0.76039202 | ... K18: =SUM(K4*1000/K12) -> 0.60352632 | L18: =SUM(L4/L12*1000) -> 0.73269546 | M18: =SUM(M4/M12*1000) -> 0.82922358 | N18: =SUM(N4/N12*1000) -> 0.87058721 | O18: =SUM(O4/O12*1000) -> 0.77452668 | P18: =SUM(P4/P12*1000) -> 0.78390384 | Q18: =SUM(Q4/Q12*1000) -> 0.55911734 | R18: =SUM(R4/R12*1000) -> 0.71563089 | S18: =SUM(S4/S12*1000) -> 1.3516558 | ... AG18: =SUM(AG4/AG12*1000) -> 0.51626226
A19: Fällda Tjurkalv | B19: =SUM(B5*1000/B12) -> 0.98231827 | C19: =SUM(C5*1000/C12) -> 0.91386795 | D19: =SUM(D5*1000/D12) -> 0.74251771 | E19: =SUM(E5*1000/E12) -> 1.2565684 | F19: =SUM(F5*1000/F12) -> 1.1766683 | G19: =SUM(G5*1000/G12) -> 1.1918951 | H19: =SUM(H5*1000/H12) -> 0.92713557 | I19: =SUM(I5*1000/I12) -> 0.63366002 | ... K19: =SUM(K5*1000/K12) -> 0.77596241 | L19: =SUM(L5/L12*1000) -> 0.60339626 | M19: =SUM(M5/M12*1000) -> 0.78558024 | N19: =SUM(N5/N12*1000) -> 1.0447047 | O19: =SUM(O5/O12*1000) -> 1.2908778 | P19: =SUM(P5/P12*1000) -> 1.2318489 | Q19: =SUM(Q5/Q12*1000) -> 1.0436857 | R19: =SUM(R5/R12*1000) -> 0.82862524 | S19: =SUM(S5/S12*1000) -> 0.97619584 | ... AG19: =SUM(AG5/AG12*1000) -> 0.72884084
A20: Fällda Kvigkalv | B20: =SUM(B6*1000/B12) -> 0.6356177 | C20: =SUM(C6*1000/C12) -> 0.8567512 | D20: =SUM(D6*1000/D12) -> 1.0281014 | E20: =SUM(E6*1000/E12) -> 0.91386795 | F20: =SUM(F6*1000/F12) -> 1.0085729 | G20: =SUM(G6*1000/G12) -> 1.1067597 | H20: =SUM(H6*1000/H12) -> 1.1799907 | I20: =SUM(I6*1000/I12) -> 0.50692802 | ... K20: =SUM(K6*1000/K12) -> 0.51730827 | L20: =SUM(L6/L12*1000) -> 0.56029653 | M20: =SUM(M6/M12*1000) -> 0.52372016 | N20: =SUM(N6/N12*1000) -> 0.73999913 | O20: =SUM(O6/O12*1000) -> 0.6454389 | P20: =SUM(P6/P12*1000) -> 0.8958901 | Q20: =SUM(Q6/Q12*1000) -> 1.4164306 | R20: =SUM(R6/R12*1000) -> 0.52730697 | S20: =SUM(S6/S12*1000) -> 0.86355786 | ... AG20: =SUM(AG6/AG12*1000) -> 0.45552552
A21: Totalt vuxen | B21: =B17+B18 -> 2.1957703 | C21: =C17+C18 -> 2.3417866 | D21: =D17+D18 -> 2.6273703 | E21: =E17+E18 -> 2.5702536 | F21: =F17+F18 -> 3.3619096 | G21: =G17+G18 -> 3.49055 | H21: =H17+H18 -> 3.7928273 | I21: =I17+I18 -> 2.1544441 | ... AG21: =AG17+AG18 -> 1.153998
A22: Toltalt kalv | B22: =B19+B20 -> 1.617936 | C22: =C19+C20 -> 1.7706191 | D22: =D19+D20 -> 1.7706191 | E22: =E19+E20 -> 2.1704364 | F22: =F19+F20 -> 2.1852412 | G22: =G19+G20 -> 2.2986549 | H22: =H19+H20 -> 2.1071263 | I22: =I19+I20 -> 1.140588 | ... AG22: =AG19+AG20 -> 1.1843664
A23: Totalt | B23: =SUM(B17:B20) -> 3.8137062 | C23: =SUM(C17:C20) -> 4.1124058 | D23: =SUM(D17:D20) -> 4.3979895 | E23: =SUM(E17:E20) -> 4.74069 | F23: =SUM(F17:F20) -> 5.5471508 | G23: =SUM(G17:G20) -> 5.7892048 | H23: =SUM(H17:H20) -> 5.8999536 | I23: =SUM(I17:I20) -> 3.2950321 | ... AG23: =SUM(AG17:AG20) -> 2.3383644
A24: Ändring mot föreg år | C24: =(C23-B23)/B23 -> 0.078322637 | D24: =(D23-C23)/C23 -> 0.069444444 | E24: =(E23-D23)/D23 -> 0.077922078 | F24: =(F23-E23)/E23 -> 0.17011465 | G24: =(G23-F23)/F23 -> 0.043635744 | H24: =(H23-G23)/G23 -> 0.019130228 | I24: =(I23-H23)/H23 -> -0.44151559 | J24: =(J23-I23)/I23 -> -0.042123579 | ... AG24: =(AG23-AF23)/AF23 -> 0.0075273595

Sheet Grafer jämförelse

Sheet Snittvikt, -ålder etc
A1: 2008 | B1: Snittvikt | G1: Taggsnitt | H1: Snitt utlägg | I1: Snittålder | K1: Äggsnitt
B2: Tjur | C2: Ko | D2: Tjurkalv | E2: Kvigkalv | F2: Kalv | I2: Tjur | J2: Ko
B3: 194.91 | C3: 147.13 | D3: 61.45 | E3: 58.95 | F3: 60.44 | G3: 5.95 | H3: 85.45 | I3: 5 | J3: 4.1578947 | K3: 1.31
A4: inkl övriga | B4: 197.5 | G4: 6.48 | H4: 87 | I4: 5.05 | J4: 4.2 | K4: 1.42
A5: Antal | B5: 22 | C5: 16 | D5: 31 | E5: 21 | F5: =D5+E5 -> 52 | G5: 22 | H5: 20 | I5: 18 | J5: 18 | K5: 13
A6: Totalt | B6: 22 | C6: 21 | D6: 33 | E6: 24 | F6: =D6+E6 -> 57 | G6: =B6 -> 22 | H6: =B6 -> 22 | I6: =B6 -> 22 | J6: =C6 -> 21 | K6: =C6 -> 21
A7: Andel | B7: =B5/B6 -> 1 | C7: =C5/C6 -> 0.76190476 | D7: =D5/D6 -> 0.93939394 | E7: =E5/E6 -> 0.875 | F7: =F5/F6 -> 0.9122807 | G7: =G5/G6 -> 1 | H7: =H5/H6 -> 0.90909091 | I7: =I5/I6 -> 0.81818182 | ... K7: =K5/K6 -> 0.61904762
A9: 2009 | B9: Snittvikt | G9: Taggsnitt | H9: Snitt utlägg | I9: Snittålder | K9: Äggsnitt
B10: Tjur | C10: Ko | D10: Tjurkalv | E10: Kvigkalv | F10: Kalv | I10: Tjur | J10: Ko
B11: 175.52941 | C11: 154.5 | D11: 57.615385 | E11: 53.84375 | F11: 55.534483 | G11: 5.4444444 | H11: 73.166667 | I11: 3.1666667 | J11: 6 | K11: 0.14285714
A12: inkl övriga | B12: 175.52941 | G12: 5.4444444 | H12: 73.166667 | I12: 3.2307692 | J12: 5.6153846 | K12: 0.125
A13: Antal | B13: 17 | C13: 12 | D13: 26 | E13: 32 | F13: 58 | G13: 18 | H13: 12 | I13: 17 | J13: 14 | K13: 7
A14: Totalt | B14: 18 | C14: 15 | D14: 28 | E14: 38 | F14: 66 | G14: 18 | H14: 18 | I14: 18 | J14: 15 | K14: 15
A15: Andel | B15: 0.94444444 | C15: 0.8 | D15: 0.92857143 | E15: 0.84210526 | F15: 0.87878788 | G15: 1 | H15: 0.66666667 | I15: 0.94444444 | J15: 0.93333333 | K15: 0.46666667
A17: 2010 | B17: Snittvikt | G17: Taggsnitt | H17: Snitt utlägg | I17: Snittålder | K17: Äggsnitt
B18: Tjur | C18: Ko | D18: Tjurkalv | E18: Kvigkalv | F18: Kalv | I18: Tjur | J18: Ko
B19: 176.83333 | C19: 144.75 | D19: 53.833333 | E19: 48.307692 | F19: 51.516129 | G19: 4.7142857 | H19: 71.9 | I19: 3.25 | J19: 2.7142857 | K19: 0
A20: inkl övriga | B20: 176.83333 | G20: 4.7142857 | H20: 71.9 | I20: 3.2222222 | J20: 3.375 | K20: 0
A21: Antal | B21: 12 | C21: 16 | D21: 18 | E21: 13 | F21: 31 | G21: 14 | H21: 10 | I21: 9 | J21: 12 | K21: 11
A22: Totalt | B22: 14 | C22: 19 | D22: 22 | E22: 14 | F22: 36 | G22: 14 | H22: 14 | I22: 14 | J22: 19 | K22: 19
A23: Andel | B23: 0.85714286 | C23: 0.84210526 | D23: 0.81818182 | E23: 0.92857143 | F23: 0.86111111 | G23: 1 | H23: 0.71428571 | I23: 0.64285714 | J23: 0.63157895 | K23: 0.57894737
A25: 2011 | B25: Snittvikt | G25: Taggsnitt | H25: Snitt utlägg | I25: Snittålder | K25: Äggsnitt
B26: Tjur | C26: Ko | D26: Tjurkalv | E26: Kvigkalv | F26: Kalv | I26: Tjur | J26: Ko
B27: 164.63158 | C27: 143.64516 | D27: 54.619048 | E27: 49.666667 | F27: 52.333333 | G27: 5.0384615 | H27: 78.916667 | I27: 0.18181818 | J27: 0 | K27: 0.66666667
A28: inkl övriga | B28: 167 | G28: 5.625 | H28: 80.692308 | I28: 0.18181818 | J28: #VALUE! | K28: 0.61538462
A29: Antal | B29: 19 | C29: 31 | D29: 21 | E29: 18 | F29: 39 | G29: 26 | H29: 12 | I29: 11 | J29: 16 | K29: 12
A30: Totalt | B30: 26 | C30: 36 | D30: 26 | E30: 22 | F30: 48 | G30: 26 | H30: 26 | I30: 26 | J30: 36 | K30: 36
A31: Andel | B31: 0.73076923 | C31: 0.86111111 | D31: 0.80769231 | E31: 0.81818182 | F31: 0.8125 | G31: 1 | H31: 0.46153846 | I31: 0.42307692 | J31: 0.44444444 | K31: 0.33333333
A33: 2012 | B33: Snittvikt | G33: Taggsnitt | H33: Snitt utlägg | I33: Snittålder | K33: Äggsnitt
B34: Tjur | C34: Ko | D34: Tjurkalv | E34: Kvigkalv | F34: Kalv | I34: Tjur | J34: Ko
B35: 167.88235 | C35: 147.54545 | D35: 54.3 | E35: 53.482759 | F35: 53.816327 | G35: 6.1578947 | H35: 88.272727 | I35: 2.5 | J35: 3.4615385 | K35: 1
A36: inkl övriga | B36: 0 | G36: 0 | H36: 0 | I36: 0 | J36: 0 | K36: 0
A37: Antal | B37: 17 | C37: 22 | D37: 20 | E37: 29 | F37: 49 | G37: 19 | H37: 11 | I37: 12 | J37: 13 | K37: 6
A38: Totalt | B38: 23 | C38: 27 | D38: 24 | E38: 34 | F38: 58 | G38: 23 | H38: 23 | I38: 23 | J38: 27 | K38: 27
A39: Andel | B39: 0.73913043 | C39: 0.81481481 | D39: 0.83333333 | E39: 0.85294118 | F39: 0.84482759 | G39: 0.82608696 | H39: 0.47826087 | I39: 0.52173913 | J39: 0.48148148 | K39: 0.22222222
A41: 2013 | B41: Snittvikt | G41: Taggsnitt | H41: Snitt utlägg | I41: Snittålder | K41: Äggsnitt
B42: Tjur | C42: Ko | D42: Tjurkalv | E42: Kvigkalv | F42: Kalv | I42: Tjur | J42: Ko
B43: 159.04 | C43: 142.19 | D43: 48.64 | E43: 50.428571 | F43: 49.12963 | G43: 4.1363636 | H43: 68.083333 | I43: 3.2941176 | J43: 4 | K43: 1
A44: inkl övriga | B44: 0 | G44: 0 | H44: 0 | I44: 0 | J44: 0 | K44: 0
A45: Antal | B45: 22 | C45: 26 | D45: 26 | E45: 28 | F45: 54 | G45: 22 | H45: 12 | I45: 17 | J45: 17 | K45: 10
...

Sheet Blad1
